
BEGIN:VCALENDAR
VERSION:2.0
PRODID:-//Waldphysio - ECPv4.8.2//NONSGML v1.0//EN
CALSCALE:GREGORIAN
METHOD:PUBLISH
X-WR-CALNAME:Waldphysio
X-ORIGINAL-URL:https://www.waldphysio.at
X-WR-CALDESC:Veranstaltungen im Waldphysio
BEGIN:VEVENT
DTSTART;TZID=UTC+1:20190413T140000
DTEND;TZID=UTC+1:20190413T180000
DTSTAMP:20260422T134117
CREATED:20190318T094427Z
LAST-MODIFIED:20190318T094427Z
UID:751-1555164000-1555178400@www.waldphysio.at
SUMMARY:Naturverbindungsgruppe
DESCRIPTION:
URL:https://www.waldphysio.at/event/naturverbindungsgruppe/
END:VEVENT
END:VCALENDAR