
BEGIN:VCALENDAR
VERSION:2.0
PRODID:-//Waldphysio - ECPv4.8.2//NONSGML v1.0//EN
CALSCALE:GREGORIAN
METHOD:PUBLISH
X-WR-CALNAME:Waldphysio
X-ORIGINAL-URL:https://www.waldphysio.at
X-WR-CALDESC:Veranstaltungen im Waldphysio
BEGIN:VEVENT
DTSTART;TZID=UTC+1:20191009T190000
DTEND;TZID=UTC+1:20191009T200000
DTSTAMP:20260423T081814
CREATED:20191008T092651Z
LAST-MODIFIED:20191008T092651Z
UID:858-1570647600-1570651200@www.waldphysio.at
SUMMARY:Rückenfit
DESCRIPTION:
URL:https://www.waldphysio.at/event/rueckenfit-2/
LOCATION:Ehemaliger Kindergarten Langenegg
END:VEVENT
END:VCALENDAR