
BEGIN:VCALENDAR
VERSION:2.0
PRODID:-//Waldphysio - ECPv4.8.2//NONSGML v1.0//EN
CALSCALE:GREGORIAN
METHOD:PUBLISH
X-WR-CALNAME:Waldphysio
X-ORIGINAL-URL:https://www.waldphysio.at
X-WR-CALDESC:Veranstaltungen im Waldphysio
BEGIN:VEVENT
DTSTART;TZID=UTC+1:20190327T183000
DTEND;TZID=UTC+1:20190327T193000
DTSTAMP:20260424T084637
CREATED:20190318T094856Z
LAST-MODIFIED:20190318T094856Z
UID:755-1553711400-1553715000@www.waldphysio.at
SUMMARY:Rückenfit-Gruppe
DESCRIPTION:Geschlossene Gruppe \n
URL:https://www.waldphysio.at/event/rueckenfit-gruppe-2/
END:VEVENT
END:VCALENDAR