
BEGIN:VCALENDAR
VERSION:2.0
PRODID:-//Waldphysio - ECPv4.8.2//NONSGML v1.0//EN
CALSCALE:GREGORIAN
METHOD:PUBLISH
X-WR-CALNAME:Waldphysio
X-ORIGINAL-URL:https://www.waldphysio.at
X-WR-CALDESC:Veranstaltungen im Waldphysio
BEGIN:VEVENT
DTSTART;TZID=UTC+1:20190513T190000
DTEND;TZID=UTC+1:20190513T200000
DTSTAMP:20260422T223143
CREATED:20190415T094202Z
LAST-MODIFIED:20190415T094202Z
UID:824-1557774000-1557777600@www.waldphysio.at
SUMMARY:Rückenfit-Gruppe
DESCRIPTION:
URL:https://www.waldphysio.at/event/rueckenfit-gruppe-5/
LOCATION:Ehemaliger Kindergarten Langenegg
END:VEVENT
END:VCALENDAR