
BEGIN:VCALENDAR
VERSION:2.0
PRODID:-//Waldphysio - ECPv4.8.2//NONSGML v1.0//EN
CALSCALE:GREGORIAN
METHOD:PUBLISH
X-WR-CALNAME:Waldphysio
X-ORIGINAL-URL:https://www.waldphysio.at
X-WR-CALDESC:Veranstaltungen im Waldphysio
BEGIN:VEVENT
DTSTART;TZID=UTC+1:20190603T190000
DTEND;TZID=UTC+1:20190603T200000
DTSTAMP:20260423T034208
CREATED:20190415T094608Z
LAST-MODIFIED:20190415T094608Z
UID:832-1559588400-1559592000@www.waldphysio.at
SUMMARY:Rückenfit-Gruppe
DESCRIPTION:
URL:https://www.waldphysio.at/event/rueckenfit-gruppe-9/
LOCATION:Ehemaliger Kindergarten Langenegg
END:VEVENT
END:VCALENDAR