
BEGIN:VCALENDAR
VERSION:2.0
PRODID:-//Waldphysio - ECPv4.8.2//NONSGML v1.0//EN
CALSCALE:GREGORIAN
METHOD:PUBLISH
X-WR-CALNAME:Waldphysio
X-ORIGINAL-URL:https://www.waldphysio.at
X-WR-CALDESC:Veranstaltungen im Waldphysio
BEGIN:VEVENT
DTSTART;TZID=UTC+1:20190320T183000
DTEND;TZID=UTC+1:20190320T193000
DTSTAMP:20260424T085254
CREATED:20190318T094739Z
LAST-MODIFIED:20190318T094739Z
UID:753-1553106600-1553110200@www.waldphysio.at
SUMMARY:Rückenfit-Gruppe
DESCRIPTION:Geschlossene Gruppe \n
URL:https://www.waldphysio.at/event/rueckenfit-gruppe/
END:VEVENT
END:VCALENDAR